BEGIN:VCALENDAR
VERSION:2.0
PRODID:icalendar-ruby
CALSCALE:GREGORIAN
METHOD:PUBLISH
BEGIN:VEVENT
DTSTAMP:20260421T174629Z
UID:https://schiffmaendli.ch/schleusenfahrt/
DTSTART:20260823T091500
DTEND:20260823T173000
CLASS:PUBLIC
CREATED:20260408T140654
DESCRIPTION:An exciting trip that begins with an impressive tour of the Rhi
 ne Falls basin. The boat then passes all three weir stages before entering
  the natural current of the Rhine.
LAST-MODIFIED:20260408T140721
LOCATION:Schlössli Wörth Bootsanlegestelle
SUMMARY:Copy of Schleusenfahrt nach Eglisau (1)
URL:https://schiffmaendli.ch/schleusenfahrt/
END:VEVENT
END:VCALENDAR
