BEGIN:VCALENDAR
VERSION:2.0
PRODID:icalendar-ruby
CALSCALE:GREGORIAN
METHOD:PUBLISH
BEGIN:VEVENT
DTSTAMP:20260421T174738Z
UID:https://schiffmaendli.ch/weinschiff-schaffhausen/
DTSTART:20260905T170000
DTEND:20260905T190000
CLASS:PUBLIC
CREATED:20260408T162724
DESCRIPTION:Vivez une atmosphère gourmande sur le Rhin lors de "Schiff &am
 p\; Wein" avec des vins blancs et rouges sélectionnés. Dégustez les vin
 s fins pendant que le bateau dérive doucement au milieu de "l'Amazonie rh
 énane".
LAST-MODIFIED:20260408T162740
LOCATION:Schlössli Wörth Bootsanlegestelle
SUMMARY:Copy of Schiff & Wein (6)
URL:https://schiffmaendli.ch/weinschiff-schaffhausen/
END:VEVENT
END:VCALENDAR
