BEGIN:VCALENDAR
VERSION:2.0
PRODID:icalendar-ruby
CALSCALE:GREGORIAN
METHOD:PUBLISH
BEGIN:VEVENT
DTSTAMP:20260421T174711Z
UID:
DTSTART:20260412T100000
DTEND:20260712T140000
CLASS:PUBLIC
CREATED:20260408T164513
DESCRIPTION:Jeden Sonntag erwartet Sie von 10.00 bis 14.00 Uhr ein reichhal
 tiges Brunch-Angebot. Der beliebte Schlemmerspass à discrétion.
LAST-MODIFIED:20260408T165133
SUMMARY:Schlossbrunch auf Schloss Laufen
URL:
END:VEVENT
END:VCALENDAR
