BEGIN:VCALENDAR
VERSION:2.0
PRODID:icalendar-ruby
CALSCALE:GREGORIAN
METHOD:PUBLISH
BEGIN:VEVENT
DTSTAMP:20260421T174629Z
UID:https://schiffmaendli.ch/schleusenfahrt/
DTSTART:20260531T091500
DTEND:20260531T173000
CLASS:PUBLIC
CREATED:20250319T123233
DESCRIPTION:
LAST-MODIFIED:20260408T135737
LOCATION:Schlössli Wörth Bootsanlegestelle
SUMMARY:Schleusenfahrt nach Eglisau
URL:https://schiffmaendli.ch/schleusenfahrt/
END:VEVENT
END:VCALENDAR
