BEGIN:VCALENDAR
VERSION:2.0
PRODID:icalendar-ruby
CALSCALE:GREGORIAN
METHOD:PUBLISH
BEGIN:VEVENT
DTSTAMP:20260421T174630Z
UID:https://schiffmaendli.ch/weinschiff-schaffhausen/
DTSTART:20260502T170000
DTEND:20260502T190000
CLASS:PUBLIC
CREATED:20250319T124321
DESCRIPTION:Experience an epicurean atmosphere on the Rhine at "Ship &amp\;
  Wine" with exquisite white and red wines. Taste the fine wines while the 
 boat floats gently in the middle of the "Rhenish Amazon".
LAST-MODIFIED:20260408T141700
LOCATION:Schlössli Wörth Bootsanlegestelle
SUMMARY:Schiff & Wein
URL:https://schiffmaendli.ch/weinschiff-schaffhausen/
END:VEVENT
END:VCALENDAR
