BEGIN:VCALENDAR
VERSION:2.0
PRODID:icalendar-ruby
CALSCALE:GREGORIAN
METHOD:PUBLISH
BEGIN:VEVENT
DTSTAMP:20260421T174630Z
UID:https://www.smilestones.ch/suchspiel
DTSTART:20260418T110000
DTEND:20260503T173000
CLASS:PUBLIC
CREATED:20250319T152609
DESCRIPTION:Vom 18. April bis 3. Mai 2026 haben sich Mini Einkaufskörbli i
 n unserer Miniaturwelt versteckt. Finde sie alle und gewinne eine kleine 
 Überraschung!
LAST-MODIFIED:20260409T094049
LOCATION:Smilestones 
SUMMARY:Smilestones Suchspiel
URL:https://www.smilestones.ch/suchspiel
END:VEVENT
END:VCALENDAR
