BEGIN:VCALENDAR
VERSION:2.0
PRODID:icalendar-ruby
CALSCALE:GREGORIAN
METHOD:PUBLISH
BEGIN:VEVENT
DTSTAMP:20260421T161754Z
UID:
DTSTART:20260703T170000
DTEND:20260703T220000
CLASS:PUBLIC
CREATED:20250523T090322
DESCRIPTION:Jeden ersten Freitag im Monat von 17 bis 22 Uhr laden die teiln
 ehmenden Geschäfte\, Gastronomie- und Kulturbetriebe ein\, gemeinsam zu f
 eiern und die Schaffhauser Innenstadt neu zu entdecken.Dabei steht das kre
 ative Miteinander im Vordergrund. Der gemeinsame Auftritt positioniert die
  Altstadt als lebendigen Aufenthaltsort mit immer wiederkehrendem Erlebnis
 wert.Egal ob Modeschau im Büchergeschäft\, Cocktail-Workshops vor dem Sc
 huhgeschäft\, eine grosse Tavolata auf der Strasse oder Konzertreihen auf
  den öffentlichen Plätzen\, das Programm wird jeden Monat auf ein Neues 
 für einen Besuch der Innenstadt begeistern.
LAST-MODIFIED:20260408T141010
LOCATION:Schauffhauserland Tourismus Center
SUMMARY:First Friday - Schaffhauserland & Smilestones 
URL:
END:VEVENT
END:VCALENDAR
